BEGIN:VCALENDAR
VERSION:2.0
PRODID:-//DGMGB – Deutsche Gesellschaft für Medizin für Menschen mit geistiger oder mehrfacher Behinderung - ECPv6.15.17//NONSGML v1.0//EN
CALSCALE:GREGORIAN
METHOD:PUBLISH
X-WR-CALNAME:DGMGB – Deutsche Gesellschaft für Medizin für Menschen mit geistiger oder mehrfacher Behinderung
X-ORIGINAL-URL:https://dgmgb.de
X-WR-CALDESC:Veranstaltungen für DGMGB – Deutsche Gesellschaft für Medizin für Menschen mit geistiger oder mehrfacher Behinderung
REFRESH-INTERVAL;VALUE=DURATION:PT1H
X-Robots-Tag:noindex
X-PUBLISHED-TTL:PT1H
BEGIN:VTIMEZONE
TZID:Europe/Berlin
BEGIN:DAYLIGHT
TZOFFSETFROM:+0100
TZOFFSETTO:+0200
TZNAME:CEST
DTSTART:20250330T010000
END:DAYLIGHT
BEGIN:STANDARD
TZOFFSETFROM:+0200
TZOFFSETTO:+0100
TZNAME:CET
DTSTART:20251026T010000
END:STANDARD
BEGIN:DAYLIGHT
TZOFFSETFROM:+0100
TZOFFSETTO:+0200
TZNAME:CEST
DTSTART:20260329T010000
END:DAYLIGHT
BEGIN:STANDARD
TZOFFSETFROM:+0200
TZOFFSETTO:+0100
TZNAME:CET
DTSTART:20261025T010000
END:STANDARD
BEGIN:DAYLIGHT
TZOFFSETFROM:+0100
TZOFFSETTO:+0200
TZNAME:CEST
DTSTART:20270328T010000
END:DAYLIGHT
BEGIN:STANDARD
TZOFFSETFROM:+0200
TZOFFSETTO:+0100
TZNAME:CET
DTSTART:20271031T010000
END:STANDARD
END:VTIMEZONE
BEGIN:VEVENT
DTSTART;TZID=Europe/Berlin:20260428T083000
DTEND;TZID=Europe/Berlin:20260428T170000
DTSTAMP:20260424T212237
CREATED:20260317T205406Z
LAST-MODIFIED:20260317T205555Z
UID:2623-1777365000-1777395600@dgmgb.de
SUMMARY:FACHTAG: INKLUSIVE MEDIZIN
DESCRIPTION:Nähere Informationen erhalten Sie hier. \nin Deutschland leben rund 1\,5 Millionen Menschen mit geistiger Behinderung. Ihre Lebenserwartung liegt nachweislich 20 bis 30 Jahre unter der der Allgemeinbevölkerung – nicht aufgrund der Behinderung selbst\, sondern weil Prävention\, Regelversorgung und medizinische Forschung diese Bevölkerungsgruppe bisher nicht ausreichend erreichen.  \nZiel des Fachtags ist es\, das Thema „Inklusive Medizin“ stärker in den fachlichen und gesundheitspolitischen Diskurs zu bringen. Hierzu kommen Expert*innen aus Wissenschaft und Praxis\, Akteure aus Medizin und Versorgung sowie Angehörige und Betroffene im Rahmen von Impulsvorträgen\, einer Podiumsdiskussion und einer Zukunftswerkstatt miteinander ins Gespräch. \nZentrale Fragen betreffen strukturelle Hürden in der medizinischen Versorgung von Menschen mit Behinderung\, Herausforderungen im Praxisalltag sowie mögliche Schritte\, um Versorgung inklusiver zu gestalten. \nDie Ergebnisse des Fachtags sollen dazu beitragen\, Perspektiven und politische Forderungen in Form eines Positionspapiers zu formulieren. Langfristig geht es darum\, Versorgungslücken sichtbar zu machen\, Kooperationen zu stärken und die medizinische Versorgung von Menschen mit Behinderung nachhaltig zu verbessern.
URL:https://dgmgb.de/veranstaltungen/fachtag-inklusive-medizin/
END:VEVENT
END:VCALENDAR